BEGIN:VCALENDAR
VERSION:2.0
PRODID:-//City Chapel Ludwigsburg - ECPv6.15.20//NONSGML v1.0//EN
CALSCALE:GREGORIAN
METHOD:PUBLISH
X-ORIGINAL-URL:https://citychapel-lb.de
X-WR-CALDESC:Veranstaltungen für City Chapel Ludwigsburg
REFRESH-INTERVAL;VALUE=DURATION:PT1H
X-Robots-Tag:noindex
X-PUBLISHED-TTL:PT1H
BEGIN:VTIMEZONE
TZID:Europe/Berlin
BEGIN:DAYLIGHT
TZOFFSETFROM:+0100
TZOFFSETTO:+0200
TZNAME:CEST
DTSTART:20250330T010000
END:DAYLIGHT
BEGIN:STANDARD
TZOFFSETFROM:+0200
TZOFFSETTO:+0100
TZNAME:CET
DTSTART:20251026T010000
END:STANDARD
BEGIN:DAYLIGHT
TZOFFSETFROM:+0100
TZOFFSETTO:+0200
TZNAME:CEST
DTSTART:20260329T010000
END:DAYLIGHT
BEGIN:STANDARD
TZOFFSETFROM:+0200
TZOFFSETTO:+0100
TZNAME:CET
DTSTART:20261025T010000
END:STANDARD
BEGIN:DAYLIGHT
TZOFFSETFROM:+0100
TZOFFSETTO:+0200
TZNAME:CEST
DTSTART:20270328T010000
END:DAYLIGHT
BEGIN:STANDARD
TZOFFSETFROM:+0200
TZOFFSETTO:+0100
TZNAME:CET
DTSTART:20271031T010000
END:STANDARD
END:VTIMEZONE
BEGIN:VEVENT
DTSTART;TZID=Europe/Berlin:20260425T180000
DTEND;TZID=Europe/Berlin:20260425T210000
DTSTAMP:20260425T135355
CREATED:20260424T080932Z
LAST-MODIFIED:20260424T080932Z
UID:1634-1777140000-1777150800@citychapel-lb.de
SUMMARY:Jugendkreis
DESCRIPTION:Wir starten eine Youth gemeinsam mit dem ICF Ludwigsburg im ICF Jugendraum\, Stuttgarter STr. 10/1 in LB \nWorship\, Gemeinschaft\, Essen\, Snacks\, Chillen\, Freundschaft\, Glauben\, Beten.
URL:https://citychapel-lb.de/event/jugendkreis/
END:VEVENT
BEGIN:VEVENT
DTSTART;TZID=Europe/Berlin:20260426T100000
DTEND;TZID=Europe/Berlin:20260426T113000
DTSTAMP:20260425T135355
CREATED:20260310T083802Z
LAST-MODIFIED:20260310T083802Z
UID:1607-1777197600-1777203000@citychapel-lb.de
SUMMARY:Gottesdienst bei den Baptisten (mit Potluck)
DESCRIPTION:Wir feiern einen gemeinsamen Gottesdienst mit den Baptisten. Nach dem Gottesdienst gibt es Potluck: jeder bringt etwas zu essen mit und wir machen ein großes Buffet.
URL:https://citychapel-lb.de/event/gottesdienst-bei-den-baptisten-mit-potluck-30/
LOCATION:Versoehnungskirche\, Hartmannstr. 33\, Ludwigsburg\, 71634\, Germany
END:VEVENT
END:VCALENDAR