BEGIN:VCALENDAR
VERSION:2.0
PRODID:-//City Chapel Ludwigsburg - ECPv6.15.20//NONSGML v1.0//EN
CALSCALE:GREGORIAN
METHOD:PUBLISH
X-ORIGINAL-URL:https://citychapel-lb.de
X-WR-CALDESC:Veranstaltungen für City Chapel Ludwigsburg
REFRESH-INTERVAL;VALUE=DURATION:PT1H
X-Robots-Tag:noindex
X-PUBLISHED-TTL:PT1H
BEGIN:VTIMEZONE
TZID:Europe/Berlin
BEGIN:DAYLIGHT
TZOFFSETFROM:+0100
TZOFFSETTO:+0200
TZNAME:CEST
DTSTART:20240331T010000
END:DAYLIGHT
BEGIN:STANDARD
TZOFFSETFROM:+0200
TZOFFSETTO:+0100
TZNAME:CET
DTSTART:20241027T010000
END:STANDARD
BEGIN:DAYLIGHT
TZOFFSETFROM:+0100
TZOFFSETTO:+0200
TZNAME:CEST
DTSTART:20250330T010000
END:DAYLIGHT
BEGIN:STANDARD
TZOFFSETFROM:+0200
TZOFFSETTO:+0100
TZNAME:CET
DTSTART:20251026T010000
END:STANDARD
BEGIN:DAYLIGHT
TZOFFSETFROM:+0100
TZOFFSETTO:+0200
TZNAME:CEST
DTSTART:20260329T010000
END:DAYLIGHT
BEGIN:STANDARD
TZOFFSETFROM:+0200
TZOFFSETTO:+0100
TZNAME:CET
DTSTART:20261025T010000
END:STANDARD
END:VTIMEZONE
BEGIN:VEVENT
DTSTART;TZID=Europe/Berlin:20250907T110000
DTEND;TZID=Europe/Berlin:20250907T123000
DTSTAMP:20260426T013837
CREATED:20250714T071647Z
LAST-MODIFIED:20250714T071647Z
UID:1408-1757242800-1757248200@citychapel-lb.de
SUMMARY:Sommerkirche des Netzwerks „Gemeinsam für Ludwigsburg”
DESCRIPTION:Gemeinsamer Gottesdienst mit verschiedenen Gemeinden des Netzwerks „Gemeinsam für Ludwigsburg”
URL:https://citychapel-lb.de/event/sommerkirche-des-netzwerks-gemeinsam-fuer-ludwigsburg-7/
LOCATION:Bärenwiese Ludwigsburg\, Bärenwiese\, Ludwigsburg\, Germany
END:VEVENT
BEGIN:VEVENT
DTSTART;TZID=Europe/Berlin:20250914T103000
DTEND;TZID=Europe/Berlin:20250914T120000
DTSTAMP:20260426T013837
CREATED:20250714T072952Z
LAST-MODIFIED:20250714T072952Z
UID:1419-1757845800-1757851200@citychapel-lb.de
SUMMARY:Gottesdienst mit Potluck
DESCRIPTION:Wir feiern Gottesdienst draußen auf dem Stückle des CVJM Tamm. \nNach dem Gottesdienst gibt es Potluck: jeder bringt etwas zu essen mit und wir machen ein großes Buffet.
URL:https://citychapel-lb.de/event/gottesdienst-mit-potluck-15/
LOCATION:CVJM Tamm\, Unterriexinger Str. 20\, Tamm\, 71732
END:VEVENT
BEGIN:VEVENT
DTSTART;TZID=Europe/Berlin:20250921T103000
DTEND;TZID=Europe/Berlin:20250921T120000
DTSTAMP:20260426T013837
CREATED:20250714T073050Z
LAST-MODIFIED:20250714T073050Z
UID:1421-1758450600-1758456000@citychapel-lb.de
SUMMARY:Gottesdienst mit Potluck
DESCRIPTION:Wir feiern Gottesdienst draußen auf dem Stückle des CVJM Tamm. \nNach dem Gottesdienst gibt es Potluck: jeder bringt etwas zu essen mit und wir machen ein großes Buffet.
URL:https://citychapel-lb.de/event/gottesdienst-mit-potluck-16/
LOCATION:CVJM Tamm\, Unterriexinger Str. 20\, Tamm\, 71732
END:VEVENT
BEGIN:VEVENT
DTSTART;TZID=Europe/Berlin:20250927T180000
DTEND;TZID=Europe/Berlin:20250927T200000
DTSTAMP:20260426T013837
CREATED:20250524T152140Z
LAST-MODIFIED:20250922T065326Z
UID:1374-1758996000-1759003200@citychapel-lb.de
SUMMARY:Frauenaktion
DESCRIPTION:Abendaktion: Wir gehen in die Stadt 🙂 \nMehr Infos unter info@citychapel-lb.de
URL:https://citychapel-lb.de/event/frauenaktion-3/
END:VEVENT
BEGIN:VEVENT
DTSTART;TZID=Europe/Berlin:20250928T100000
DTEND;TZID=Europe/Berlin:20250928T113000
DTSTAMP:20260426T013837
CREATED:20250714T073226Z
LAST-MODIFIED:20250922T064959Z
UID:1423-1759053600-1759059000@citychapel-lb.de
SUMMARY:Gottesdienst in der Versöhnungskirche (mit Potluck)
DESCRIPTION:Wir feiern Gottesdienst in der Versöhnungskirche in Eglosheim. \nNach dem Gottesdienst gibt es Potluck: jeder bringt etwas zu essen mit und wir machen ein großes Buffet.
URL:https://citychapel-lb.de/event/gottesdienst-mit-potluck-17/
LOCATION:Versoehnungskirche\, Hartmannstr. 33\, Ludwigsburg\, 71634\, Germany
END:VEVENT
END:VCALENDAR