BEGIN:VCALENDAR
VERSION:2.0
PRODID:-//City Chapel Ludwigsburg - ECPv6.15.20//NONSGML v1.0//EN
CALSCALE:GREGORIAN
METHOD:PUBLISH
X-WR-CALNAME:City Chapel Ludwigsburg
X-ORIGINAL-URL:https://citychapel-lb.de
X-WR-CALDESC:Veranstaltungen für City Chapel Ludwigsburg
REFRESH-INTERVAL;VALUE=DURATION:PT1H
X-Robots-Tag:noindex
X-PUBLISHED-TTL:PT1H
BEGIN:VTIMEZONE
TZID:Europe/Berlin
BEGIN:DAYLIGHT
TZOFFSETFROM:+0100
TZOFFSETTO:+0200
TZNAME:CEST
DTSTART:20250330T010000
END:DAYLIGHT
BEGIN:STANDARD
TZOFFSETFROM:+0200
TZOFFSETTO:+0100
TZNAME:CET
DTSTART:20251026T010000
END:STANDARD
BEGIN:DAYLIGHT
TZOFFSETFROM:+0100
TZOFFSETTO:+0200
TZNAME:CEST
DTSTART:20260329T010000
END:DAYLIGHT
BEGIN:STANDARD
TZOFFSETFROM:+0200
TZOFFSETTO:+0100
TZNAME:CET
DTSTART:20261025T010000
END:STANDARD
BEGIN:DAYLIGHT
TZOFFSETFROM:+0100
TZOFFSETTO:+0200
TZNAME:CEST
DTSTART:20270328T010000
END:DAYLIGHT
BEGIN:STANDARD
TZOFFSETFROM:+0200
TZOFFSETTO:+0100
TZNAME:CET
DTSTART:20271031T010000
END:STANDARD
END:VTIMEZONE
BEGIN:VEVENT
DTSTART;TZID=Europe/Berlin:20260425T180000
DTEND;TZID=Europe/Berlin:20260425T210000
DTSTAMP:20260425T151134
CREATED:20260424T080932Z
LAST-MODIFIED:20260424T080932Z
UID:1634-1777140000-1777150800@citychapel-lb.de
SUMMARY:Jugendkreis
DESCRIPTION:Wir starten eine Youth gemeinsam mit dem ICF Ludwigsburg im ICF Jugendraum\, Stuttgarter STr. 10/1 in LB \nWorship\, Gemeinschaft\, Essen\, Snacks\, Chillen\, Freundschaft\, Glauben\, Beten.
URL:https://citychapel-lb.de/event/jugendkreis/
END:VEVENT
BEGIN:VEVENT
DTSTART;TZID=Europe/Berlin:20260426T100000
DTEND;TZID=Europe/Berlin:20260426T113000
DTSTAMP:20260425T151134
CREATED:20260310T083802Z
LAST-MODIFIED:20260310T083802Z
UID:1607-1777197600-1777203000@citychapel-lb.de
SUMMARY:Gottesdienst bei den Baptisten (mit Potluck)
DESCRIPTION:Wir feiern einen gemeinsamen Gottesdienst mit den Baptisten. Nach dem Gottesdienst gibt es Potluck: jeder bringt etwas zu essen mit und wir machen ein großes Buffet.
URL:https://citychapel-lb.de/event/gottesdienst-bei-den-baptisten-mit-potluck-30/
LOCATION:Versoehnungskirche\, Hartmannstr. 33\, Ludwigsburg\, 71634\, Germany
END:VEVENT
BEGIN:VEVENT
DTSTART;TZID=Europe/Berlin:20260502T180000
DTEND;TZID=Europe/Berlin:20260502T210000
DTSTAMP:20260425T151134
CREATED:20260424T081058Z
LAST-MODIFIED:20260424T081058Z
UID:1636-1777744800-1777755600@citychapel-lb.de
SUMMARY:Jugendkreis
DESCRIPTION:Wir starten eine Youth gemeinsam mit dem ICF Ludwigsburg im ICF Jugendraum\, Stuttgarter STr. 10/1 in LB \nWorship\, Gemeinschaft\, Essen\, Snacks\, Chillen\, Freundschaft\, Glauben\, Beten.
URL:https://citychapel-lb.de/event/jugendkreis-2/
END:VEVENT
BEGIN:VEVENT
DTSTART;TZID=Europe/Berlin:20260503T103000
DTEND;TZID=Europe/Berlin:20260503T120000
DTSTAMP:20260425T151134
CREATED:20260414T062833Z
LAST-MODIFIED:20260414T062833Z
UID:1623-1777804200-1777809600@citychapel-lb.de
SUMMARY:Gottesdienst
DESCRIPTION:Wir feiern Gottesdienst im Gemeindehaus\, Friedenstr. 35\, in Ludwigsburg
URL:https://citychapel-lb.de/event/gottesdienst-109/
LOCATION:Gemeindehaus LB\, Friedenstraße 35\, Ludwigsburg\, 71636\, Germany
END:VEVENT
BEGIN:VEVENT
DTSTART;TZID=Europe/Berlin:20260510T103000
DTEND;TZID=Europe/Berlin:20260510T120000
DTSTAMP:20260425T151134
CREATED:20260414T062932Z
LAST-MODIFIED:20260414T062932Z
UID:1625-1778409000-1778414400@citychapel-lb.de
SUMMARY:Gottesdienst
DESCRIPTION:Wir feiern Gottesdienst im Gemeindehaus\, Friedenstr. 35\, in Ludwigsburg
URL:https://citychapel-lb.de/event/gottesdienst-110/
LOCATION:Gemeindehaus LB\, Friedenstraße 35\, Ludwigsburg\, 71636\, Germany
END:VEVENT
BEGIN:VEVENT
DTSTART;TZID=Europe/Berlin:20260516T180000
DTEND;TZID=Europe/Berlin:20260516T210000
DTSTAMP:20260425T151134
CREATED:20260424T081135Z
LAST-MODIFIED:20260424T081135Z
UID:1638-1778954400-1778965200@citychapel-lb.de
SUMMARY:Jugendkreis
DESCRIPTION:Wir starten eine Youth gemeinsam mit dem ICF Ludwigsburg im ICF Jugendraum\, Stuttgarter STr. 10/1 in LB \nWorship\, Gemeinschaft\, Essen\, Snacks\, Chillen\, Freundschaft\, Glauben\, Beten.
URL:https://citychapel-lb.de/event/jugendkreis-3/
END:VEVENT
BEGIN:VEVENT
DTSTART;TZID=Europe/Berlin:20260517T103000
DTEND;TZID=Europe/Berlin:20260517T120000
DTSTAMP:20260425T151134
CREATED:20260424T082405Z
LAST-MODIFIED:20260424T082405Z
UID:1650-1779013800-1779019200@citychapel-lb.de
SUMMARY:Gottesdienst
DESCRIPTION:Wir feiern Gottesdienst draußen auf dem Stückle des CVJM Tamm. \nNach dem Gottesdienst gibt es Potluck: jeder bringt etwas zu essen mit und wir machen ein großes Buffet.
URL:https://citychapel-lb.de/event/gottesdienst-111/
LOCATION:CVJM Tamm\, Unterriexinger Str. 20\, Tamm\, 71732
END:VEVENT
BEGIN:VEVENT
DTSTART;TZID=Europe/Berlin:20260519T193000
DTEND;TZID=Europe/Berlin:20260519T210000
DTSTAMP:20260425T151134
CREATED:20260424T081713Z
LAST-MODIFIED:20260424T081713Z
UID:1644-1779219000-1779224400@citychapel-lb.de
SUMMARY:Männerabend
DESCRIPTION:Wir Männer kommen zusammen zu Lobpreis\, Austausch und Gebet. \nMehr Infos und den Ort erfragen bei maennerarbeit@citychapel-lb.de
URL:https://citychapel-lb.de/event/maennerabend-32/
END:VEVENT
BEGIN:VEVENT
DTSTART;TZID=Europe/Berlin:20260524T100000
DTEND;TZID=Europe/Berlin:20260524T113000
DTSTAMP:20260425T151134
CREATED:20260424T082032Z
LAST-MODIFIED:20260424T083835Z
UID:1648-1779616800-1779622200@citychapel-lb.de
SUMMARY:Gottesdienst bei den Baptisten (mit Potluck)
DESCRIPTION:Wir feiern einen gemeinsamen Gottesdienst mit den Baptisten. Nach dem Gottesdienst gibt es Potluck: jeder bringt etwas zu essen mit und wir machen ein großes Buffet.
URL:https://citychapel-lb.de/event/gottesdienst-bei-den-baptisten-mit-potluck-31/
LOCATION:Versoehnungskirche\, Hartmannstr. 33\, Ludwigsburg\, 71634\, Germany
END:VEVENT
BEGIN:VEVENT
DTSTART;TZID=Europe/Berlin:20260531T103000
DTEND;TZID=Europe/Berlin:20260531T120000
DTSTAMP:20260425T151134
CREATED:20260424T082608Z
LAST-MODIFIED:20260424T082608Z
UID:1652-1780223400-1780228800@citychapel-lb.de
SUMMARY:Gottesdienst
DESCRIPTION:Wir feiern Gottesdienst draußen auf dem Stückle des CVJM Tamm. \nNach dem Gottesdienst gibt es Potluck: jeder bringt etwas zu essen mit und wir machen ein großes Buffet.
URL:https://citychapel-lb.de/event/gottesdienst-112/
LOCATION:CVJM Tamm\, Unterriexinger Str. 20\, Tamm\, 71732
END:VEVENT
BEGIN:VEVENT
DTSTART;TZID=Europe/Berlin:20260606T180000
DTEND;TZID=Europe/Berlin:20260606T210000
DTSTAMP:20260425T151134
CREATED:20260424T081300Z
LAST-MODIFIED:20260424T081300Z
UID:1640-1780768800-1780779600@citychapel-lb.de
SUMMARY:Jugendkreis
DESCRIPTION:Wir starten eine Youth gemeinsam mit dem ICF Ludwigsburg im ICF Jugendraum\, Stuttgarter Str. 10/1 in LB \nWorship\, Gemeinschaft\, Essen\, Snacks\, Chillen\, Freundschaft\, Glauben\, Beten.
URL:https://citychapel-lb.de/event/jugendkreis-4/
END:VEVENT
BEGIN:VEVENT
DTSTART;TZID=Europe/Berlin:20260607T103000
DTEND;TZID=Europe/Berlin:20260607T120000
DTSTAMP:20260425T151134
CREATED:20260424T082901Z
LAST-MODIFIED:20260424T082901Z
UID:1654-1780828200-1780833600@citychapel-lb.de
SUMMARY:Gottesdienst - MAF (Mission Aviation Fellowship) zu Gast
DESCRIPTION:Wir feiern Gottesdienst draußen auf dem Stückle des CVJM Tamm. Wir werden Klaus Mehler von MAF (Mission Aviation Fellowship zu Gast haben. Er wird predigen und uns die Arbeit von MAF vorstellen. \nNach dem Gottesdienst gibt es Potluck: jeder bringt etwas zu essen mit und wir machen ein großes Buffet.
URL:https://citychapel-lb.de/event/gottesdienst-maf-mission-aviation-fellowship-zu-gast/
LOCATION:CVJM Tamm\, Unterriexinger Str. 20\, Tamm\, 71732
END:VEVENT
BEGIN:VEVENT
DTSTART;TZID=Europe/Berlin:20260614T103000
DTEND;TZID=Europe/Berlin:20260614T120000
DTSTAMP:20260425T151134
CREATED:20260424T083554Z
LAST-MODIFIED:20260424T083554Z
UID:1660-1781433000-1781438400@citychapel-lb.de
SUMMARY:Gottesdienst
DESCRIPTION:Wir feiern Gottesdienst draußen auf dem Stückle des CVJM Tamm. \nNach dem Gottesdienst gibt es Potluck: jeder bringt etwas zu essen mit und wir machen ein großes Buffet.
URL:https://citychapel-lb.de/event/gottesdienst-113/
LOCATION:CVJM Tamm\, Unterriexinger Str. 20\, Tamm\, 71732
END:VEVENT
BEGIN:VEVENT
DTSTART;TZID=Europe/Berlin:20260616T193000
DTEND;TZID=Europe/Berlin:20260616T210000
DTSTAMP:20260425T151134
CREATED:20260424T081755Z
LAST-MODIFIED:20260424T081755Z
UID:1646-1781638200-1781643600@citychapel-lb.de
SUMMARY:Männerabend
DESCRIPTION:Wir Männer kommen zusammen zu Lobpreis\, Austausch und Gebet. \nMehr Infos und den Ort erfragen bei maennerarbeit@citychapel-lb.de
URL:https://citychapel-lb.de/event/maennerabend-33/
END:VEVENT
BEGIN:VEVENT
DTSTART;TZID=Europe/Berlin:20260621T103000
DTEND;TZID=Europe/Berlin:20260621T120000
DTSTAMP:20260425T151134
CREATED:20260424T083651Z
LAST-MODIFIED:20260424T083738Z
UID:1662-1782037800-1782043200@citychapel-lb.de
SUMMARY:Gottesdienst
DESCRIPTION:Wir feiern Gottesdienst draußen auf dem Stückle des CVJM Tamm. \nNach dem Gottesdienst gibt es Potluck: jeder bringt etwas zu essen mit und wir machen ein großes Buffet.
URL:https://citychapel-lb.de/event/gottesdienst-114/
LOCATION:CVJM Tamm\, Unterriexinger Str. 20\, Tamm\, 71732
END:VEVENT
BEGIN:VEVENT
DTSTART;TZID=Europe/Berlin:20260627T180000
DTEND;TZID=Europe/Berlin:20260627T210000
DTSTAMP:20260425T151134
CREATED:20260424T081355Z
LAST-MODIFIED:20260424T081355Z
UID:1642-1782583200-1782594000@citychapel-lb.de
SUMMARY:Jugendkreis
DESCRIPTION:Wir starten eine Youth gemeinsam mit dem ICF Ludwigsburg im ICF Jugendraum\, Stuttgarter STr. 10/1 in LB \nWorship\, Gemeinschaft\, Essen\, Snacks\, Chillen\, Freundschaft\, Glauben\, Beten.
URL:https://citychapel-lb.de/event/jugendkreis-5/
END:VEVENT
BEGIN:VEVENT
DTSTART;TZID=Europe/Berlin:20260628T100000
DTEND;TZID=Europe/Berlin:20260628T113000
DTSTAMP:20260425T151134
CREATED:20260424T084001Z
LAST-MODIFIED:20260424T084001Z
UID:1664-1782640800-1782646200@citychapel-lb.de
SUMMARY:Gottesdienst bei den Baptisten (mit Potluck)
DESCRIPTION:Wir feiern einen gemeinsamen Gottesdienst mit den Baptisten. Nach dem Gottesdienst gibt es Potluck: jeder bringt etwas zu essen mit und wir machen ein großes Buffet.
URL:https://citychapel-lb.de/event/gottesdienst-bei-den-baptisten-mit-potluck-32/
LOCATION:Versoehnungskirche\, Hartmannstr. 33\, Ludwigsburg\, 71634\, Germany
END:VEVENT
BEGIN:VEVENT
DTSTART;TZID=Europe/Berlin:20260703T170000
DTEND;TZID=Europe/Berlin:20260705T123000
DTSTAMP:20260425T151134
CREATED:20260424T083409Z
LAST-MODIFIED:20260424T083442Z
UID:1656-1783098000-1783254600@citychapel-lb.de
SUMMARY:Gemeindefreizeit in Schorndorf (CBA)
DESCRIPTION:Wir wollen als Gemeinde Zeit haben um auf Gott zu hören\, Gemeinschaft zu haben und uns gegenseitig besser kennenlernen. Es gibt workshops\, Kinderprogramm und einen Worshipabend.
URL:https://citychapel-lb.de/event/gemeindefreizeit-in-schorndorf-cba/
END:VEVENT
END:VCALENDAR