BEGIN:VCALENDAR
VERSION:2.0
PRODID:-//City Chapel Ludwigsburg - ECPv6.15.20//NONSGML v1.0//EN
CALSCALE:GREGORIAN
METHOD:PUBLISH
X-ORIGINAL-URL:https://citychapel-lb.de
X-WR-CALDESC:Veranstaltungen für City Chapel Ludwigsburg
REFRESH-INTERVAL;VALUE=DURATION:PT1H
X-Robots-Tag:noindex
X-PUBLISHED-TTL:PT1H
BEGIN:VTIMEZONE
TZID:Europe/Berlin
BEGIN:DAYLIGHT
TZOFFSETFROM:+0100
TZOFFSETTO:+0200
TZNAME:CEST
DTSTART:20250330T010000
END:DAYLIGHT
BEGIN:STANDARD
TZOFFSETFROM:+0200
TZOFFSETTO:+0100
TZNAME:CET
DTSTART:20251026T010000
END:STANDARD
BEGIN:DAYLIGHT
TZOFFSETFROM:+0100
TZOFFSETTO:+0200
TZNAME:CEST
DTSTART:20260329T010000
END:DAYLIGHT
BEGIN:STANDARD
TZOFFSETFROM:+0200
TZOFFSETTO:+0100
TZNAME:CET
DTSTART:20261025T010000
END:STANDARD
BEGIN:DAYLIGHT
TZOFFSETFROM:+0100
TZOFFSETTO:+0200
TZNAME:CEST
DTSTART:20270328T010000
END:DAYLIGHT
BEGIN:STANDARD
TZOFFSETFROM:+0200
TZOFFSETTO:+0100
TZNAME:CET
DTSTART:20271031T010000
END:STANDARD
END:VTIMEZONE
BEGIN:VEVENT
DTSTART;TZID=Europe/Berlin:20260607T103000
DTEND;TZID=Europe/Berlin:20260607T120000
DTSTAMP:20260425T174037
CREATED:20260424T082901Z
LAST-MODIFIED:20260424T082901Z
UID:1654-1780828200-1780833600@citychapel-lb.de
SUMMARY:Gottesdienst - MAF (Mission Aviation Fellowship) zu Gast
DESCRIPTION:Wir feiern Gottesdienst draußen auf dem Stückle des CVJM Tamm. Wir werden Klaus Mehler von MAF (Mission Aviation Fellowship zu Gast haben. Er wird predigen und uns die Arbeit von MAF vorstellen. \nNach dem Gottesdienst gibt es Potluck: jeder bringt etwas zu essen mit und wir machen ein großes Buffet.
URL:https://citychapel-lb.de/event/gottesdienst-maf-mission-aviation-fellowship-zu-gast/
LOCATION:CVJM Tamm\, Unterriexinger Str. 20\, Tamm\, 71732
END:VEVENT
END:VCALENDAR