BEGIN:VCALENDAR
VERSION:2.0
PRODID:-//City Chapel Ludwigsburg - ECPv6.15.20//NONSGML v1.0//EN
CALSCALE:GREGORIAN
METHOD:PUBLISH
X-ORIGINAL-URL:https://citychapel-lb.de
X-WR-CALDESC:Veranstaltungen für City Chapel Ludwigsburg
REFRESH-INTERVAL;VALUE=DURATION:PT1H
X-Robots-Tag:noindex
X-PUBLISHED-TTL:PT1H
BEGIN:VTIMEZONE
TZID:Europe/Berlin
BEGIN:DAYLIGHT
TZOFFSETFROM:+0100
TZOFFSETTO:+0200
TZNAME:CEST
DTSTART:20250330T010000
END:DAYLIGHT
BEGIN:STANDARD
TZOFFSETFROM:+0200
TZOFFSETTO:+0100
TZNAME:CET
DTSTART:20251026T010000
END:STANDARD
BEGIN:DAYLIGHT
TZOFFSETFROM:+0100
TZOFFSETTO:+0200
TZNAME:CEST
DTSTART:20260329T010000
END:DAYLIGHT
BEGIN:STANDARD
TZOFFSETFROM:+0200
TZOFFSETTO:+0100
TZNAME:CET
DTSTART:20261025T010000
END:STANDARD
BEGIN:DAYLIGHT
TZOFFSETFROM:+0100
TZOFFSETTO:+0200
TZNAME:CEST
DTSTART:20270328T010000
END:DAYLIGHT
BEGIN:STANDARD
TZOFFSETFROM:+0200
TZOFFSETTO:+0100
TZNAME:CET
DTSTART:20271031T010000
END:STANDARD
END:VTIMEZONE
BEGIN:VEVENT
DTSTART;TZID=Europe/Berlin:20260414T193000
DTEND;TZID=Europe/Berlin:20260414T210000
DTSTAMP:20260425T151543
CREATED:20260223T151013Z
LAST-MODIFIED:20260413T074139Z
UID:1593-1776195000-1776200400@citychapel-lb.de
SUMMARY:Männerabend
DESCRIPTION:Wir Männer kommen zusammen zu Lobpreis\, Austausch und Gebet. \nDiesmal gehen wir gemeinsam mexikanisch Essen! \nMehr Infos und den Ort erfragen bei maennerarbeit@citychapel-lb.de
URL:https://citychapel-lb.de/event/maennerabend-31/
END:VEVENT
END:VCALENDAR