BEGIN:VCALENDAR
VERSION:2.0
PRODID:-//City Chapel Ludwigsburg - ECPv6.15.20//NONSGML v1.0//EN
CALSCALE:GREGORIAN
METHOD:PUBLISH
X-ORIGINAL-URL:https://citychapel-lb.de
X-WR-CALDESC:Veranstaltungen für City Chapel Ludwigsburg
REFRESH-INTERVAL;VALUE=DURATION:PT1H
X-Robots-Tag:noindex
X-PUBLISHED-TTL:PT1H
BEGIN:VTIMEZONE
TZID:Europe/Berlin
BEGIN:DAYLIGHT
TZOFFSETFROM:+0100
TZOFFSETTO:+0200
TZNAME:CEST
DTSTART:20250330T010000
END:DAYLIGHT
BEGIN:STANDARD
TZOFFSETFROM:+0200
TZOFFSETTO:+0100
TZNAME:CET
DTSTART:20251026T010000
END:STANDARD
BEGIN:DAYLIGHT
TZOFFSETFROM:+0100
TZOFFSETTO:+0200
TZNAME:CEST
DTSTART:20260329T010000
END:DAYLIGHT
BEGIN:STANDARD
TZOFFSETFROM:+0200
TZOFFSETTO:+0100
TZNAME:CET
DTSTART:20261025T010000
END:STANDARD
BEGIN:DAYLIGHT
TZOFFSETFROM:+0100
TZOFFSETTO:+0200
TZNAME:CEST
DTSTART:20270328T010000
END:DAYLIGHT
BEGIN:STANDARD
TZOFFSETFROM:+0200
TZOFFSETTO:+0100
TZNAME:CET
DTSTART:20271031T010000
END:STANDARD
END:VTIMEZONE
BEGIN:VEVENT
DTSTART;TZID=Europe/Berlin:20260405T100000
DTEND;TZID=Europe/Berlin:20260405T113000
DTSTAMP:20260425T151515
CREATED:20260126T084811Z
LAST-MODIFIED:20260310T082802Z
UID:1578-1775383200-1775388600@citychapel-lb.de
SUMMARY:Ostergottesdienst mit Osterfrühstück
DESCRIPTION:Wir feiern gemeinsam die Auferstehung unseres Herrn:  Jeder – groß und klein- ist eingeladen bei diesem Ostergottesdienst dabei zu sein. Es gibt Theater\, Message\, & Lieder. Anmeldung und Adresse unter info@citychape-lb.de \nWer schon um 9Uhr zum Frühstück dabei sein will\, bitte ebenfalls anmelden unter info@citychapel-lb.de
URL:https://citychapel-lb.de/event/ostergottesdienst/
END:VEVENT
END:VCALENDAR