BEGIN:VCALENDAR
VERSION:2.0
PRODID:-//City Chapel Ludwigsburg - ECPv6.15.20//NONSGML v1.0//EN
CALSCALE:GREGORIAN
METHOD:PUBLISH
X-ORIGINAL-URL:https://citychapel-lb.de
X-WR-CALDESC:Veranstaltungen für City Chapel Ludwigsburg
REFRESH-INTERVAL;VALUE=DURATION:PT1H
X-Robots-Tag:noindex
X-PUBLISHED-TTL:PT1H
BEGIN:VTIMEZONE
TZID:Europe/Berlin
BEGIN:DAYLIGHT
TZOFFSETFROM:+0100
TZOFFSETTO:+0200
TZNAME:CEST
DTSTART:20250330T010000
END:DAYLIGHT
BEGIN:STANDARD
TZOFFSETFROM:+0200
TZOFFSETTO:+0100
TZNAME:CET
DTSTART:20251026T010000
END:STANDARD
BEGIN:DAYLIGHT
TZOFFSETFROM:+0100
TZOFFSETTO:+0200
TZNAME:CEST
DTSTART:20260329T010000
END:DAYLIGHT
BEGIN:STANDARD
TZOFFSETFROM:+0200
TZOFFSETTO:+0100
TZNAME:CET
DTSTART:20261025T010000
END:STANDARD
BEGIN:DAYLIGHT
TZOFFSETFROM:+0100
TZOFFSETTO:+0200
TZNAME:CEST
DTSTART:20270328T010000
END:DAYLIGHT
BEGIN:STANDARD
TZOFFSETFROM:+0200
TZOFFSETTO:+0100
TZNAME:CET
DTSTART:20271031T010000
END:STANDARD
END:VTIMEZONE
BEGIN:VEVENT
DTSTART;TZID=Europe/Berlin:20260317T193000
DTEND;TZID=Europe/Berlin:20260317T203000
DTSTAMP:20260425T175422
CREATED:20260112T084234Z
LAST-MODIFIED:20260211T073824Z
UID:1559-1773775800-1773779400@citychapel-lb.de
SUMMARY:Breakthrough Gebetstreff
DESCRIPTION:Im Gebetstreff kommen wir vor Gott und beten gemeinsam. Ihr könnt auch Gebetsanliegen schicken: breakthrough@citychapel-lb.de \nOrt: Tamm (den genauen Ort kannst du unter breakthrough@citychapel-lb.de erfragen)
URL:https://citychapel-lb.de/event/breakthrough-gebetstreff-50/
END:VEVENT
BEGIN:VEVENT
DTSTART;TZID=Europe/Berlin:20260317T193000
DTEND;TZID=Europe/Berlin:20260317T210000
DTSTAMP:20260425T175422
CREATED:20260223T150916Z
LAST-MODIFIED:20260223T150916Z
UID:1590-1773775800-1773781200@citychapel-lb.de
SUMMARY:Männerabend
DESCRIPTION:Wir Männer kommen zusammen zu Lobpreis\, Austausch und Gebet. Für Getränke und Snacks ist gesorgt. \nMehr Infos und den Ort erfragen bei maennerarbeit@citychapel-lb.dev
URL:https://citychapel-lb.de/event/maennerabend-30/
END:VEVENT
END:VCALENDAR