BEGIN:VCALENDAR
VERSION:2.0
PRODID:-//City Chapel Ludwigsburg - ECPv6.15.20//NONSGML v1.0//EN
CALSCALE:GREGORIAN
METHOD:PUBLISH
X-WR-CALNAME:City Chapel Ludwigsburg
X-ORIGINAL-URL:https://citychapel-lb.de
X-WR-CALDESC:Veranstaltungen für City Chapel Ludwigsburg
REFRESH-INTERVAL;VALUE=DURATION:PT1H
X-Robots-Tag:noindex
X-PUBLISHED-TTL:PT1H
BEGIN:VTIMEZONE
TZID:Europe/Berlin
BEGIN:DAYLIGHT
TZOFFSETFROM:+0100
TZOFFSETTO:+0200
TZNAME:CEST
DTSTART:20240331T010000
END:DAYLIGHT
BEGIN:STANDARD
TZOFFSETFROM:+0200
TZOFFSETTO:+0100
TZNAME:CET
DTSTART:20241027T010000
END:STANDARD
BEGIN:DAYLIGHT
TZOFFSETFROM:+0100
TZOFFSETTO:+0200
TZNAME:CEST
DTSTART:20250330T010000
END:DAYLIGHT
BEGIN:STANDARD
TZOFFSETFROM:+0200
TZOFFSETTO:+0100
TZNAME:CET
DTSTART:20251026T010000
END:STANDARD
BEGIN:DAYLIGHT
TZOFFSETFROM:+0100
TZOFFSETTO:+0200
TZNAME:CEST
DTSTART:20260329T010000
END:DAYLIGHT
BEGIN:STANDARD
TZOFFSETFROM:+0200
TZOFFSETTO:+0100
TZNAME:CET
DTSTART:20261025T010000
END:STANDARD
END:VTIMEZONE
BEGIN:VEVENT
DTSTART;TZID=Europe/Berlin:20250802T093000
DTEND;TZID=Europe/Berlin:20250802T113000
DTSTAMP:20260426T042403
CREATED:20250524T151914Z
LAST-MODIFIED:20250714T065730Z
UID:1370-1754127000-1754134200@citychapel-lb.de
SUMMARY:Frauenaktion
DESCRIPTION:CCLB Frauenaktion am 02.08.2025 um 09:30 zum gemeinsamen Picknick-Frühstück auf der Bärenwiese (Treffpunkt: Klettergerüst).\n\nMitbringen müsst ihr nur euer eigenes Geschirr sowie Picknickdecken und wer möchte Outdoor-Spiele. Es gibt auch einen spannenden Input.\n\nMehr Infos unter info@citychapel-lb.de
URL:https://citychapel-lb.de/event/frauenaktion-2/
END:VEVENT
END:VCALENDAR