BEGIN:VCALENDAR
VERSION:2.0
PRODID:-//City Chapel Ludwigsburg - ECPv6.15.20//NONSGML v1.0//EN
CALSCALE:GREGORIAN
METHOD:PUBLISH
X-ORIGINAL-URL:https://citychapel-lb.de
X-WR-CALDESC:Veranstaltungen für City Chapel Ludwigsburg
REFRESH-INTERVAL;VALUE=DURATION:PT1H
X-Robots-Tag:noindex
X-PUBLISHED-TTL:PT1H
BEGIN:VTIMEZONE
TZID:Europe/Berlin
BEGIN:DAYLIGHT
TZOFFSETFROM:+0100
TZOFFSETTO:+0200
TZNAME:CEST
DTSTART:20240331T010000
END:DAYLIGHT
BEGIN:STANDARD
TZOFFSETFROM:+0200
TZOFFSETTO:+0100
TZNAME:CET
DTSTART:20241027T010000
END:STANDARD
BEGIN:DAYLIGHT
TZOFFSETFROM:+0100
TZOFFSETTO:+0200
TZNAME:CEST
DTSTART:20250330T010000
END:DAYLIGHT
BEGIN:STANDARD
TZOFFSETFROM:+0200
TZOFFSETTO:+0100
TZNAME:CET
DTSTART:20251026T010000
END:STANDARD
BEGIN:DAYLIGHT
TZOFFSETFROM:+0100
TZOFFSETTO:+0200
TZNAME:CEST
DTSTART:20260329T010000
END:DAYLIGHT
BEGIN:STANDARD
TZOFFSETFROM:+0200
TZOFFSETTO:+0100
TZNAME:CET
DTSTART:20261025T010000
END:STANDARD
END:VTIMEZONE
BEGIN:VEVENT
DTSTART;TZID=Europe/Berlin:20250713T103000
DTEND;TZID=Europe/Berlin:20250713T120000
DTSTAMP:20260426T053818
CREATED:20250524T144056Z
LAST-MODIFIED:20250702T131504Z
UID:1361-1752402600-1752408000@citychapel-lb.de
SUMMARY:Taufgottesdienst mit Potluck (am Unteren Seewaldsee)
DESCRIPTION:Wir feiern einen Taufgottesdienst am Unteren Seewaldsee. \nNach dem Gottesdienst haben wir Potluck. Deshalb bringt mit: Essen für das Buffet\, Geschirr\, eigenes Trinken\, Decke zum Sitzen. \nGern auch Badeklamotten! \nTreffpunkt: Wanderparkplatz Seewaldseen bei Horrheim (https://goo.gl/maps/YfcDSLYSirKefWUt9). Für die Taufe laufen wir hier hin (Achtung: 15 Minuten Weg einplanen!): https://maps.app.goo.gl/t7hYJcdajrtRQ8mU9 \n 
URL:https://citychapel-lb.de/event/gottesdienst-mit-potluck-13/
END:VEVENT
END:VCALENDAR